{
 "currentVersion": 10.31,
 "serviceDescription": "",
 "mapName": "Layers",
 "description": "",
 "copyrightText": "",
 "supportsDynamicLayers": false,
 "layers": [
  {
   "id": 0,
   "name": "1881 Trig Survey - Watsons Bay",
   "parentLayerId": -1,
   "defaultVisibility": true,
   "subLayerIds": null,
   "minScale": 0,
   "maxScale": 0
  }
 ],
 "tables": [],
 "spatialReference": {
  "wkid": 102100,
  "latestWkid": 3857
 },
 "singleFusedMapCache": true,
 "tileInfo": {
  "rows": 1024,
  "cols": 1024,
  "dpi": 96,
  "format": "JPEG",
  "compressionQuality": 100,
  "origin": {
   "x": -2.0037508342787E7,
   "y": 2.0037508342787E7
  },
  "spatialReference": {
   "wkid": 102100,
   "latestWkid": 3857
  },
  "lods": [
   {
    "level": 0,
    "resolution": 38.21851414253662,
    "scale": 144447.638572
   },
   {
    "level": 1,
    "resolution": 19.10925707126831,
    "scale": 72223.819286
   },
   {
    "level": 2,
    "resolution": 9.554628535634155,
    "scale": 36111.909643
   },
   {
    "level": 3,
    "resolution": 4.77731426794937,
    "scale": 18055.954822
   },
   {
    "level": 4,
    "resolution": 2.388657133974685,
    "scale": 9027.977411
   },
   {
    "level": 5,
    "resolution": 1.1943285668550503,
    "scale": 4513.988705
   },
   {
    "level": 6,
    "resolution": 0.5971642835598172,
    "scale": 2256.994353
   },
   {
    "level": 7,
    "resolution": 0.29858214164761665,
    "scale": 1128.497176
   },
   {
    "level": 8,
    "resolution": 0.14929107082380833,
    "scale": 564.248588
   },
   {
    "level": 9,
    "resolution": 0.07464553541190416,
    "scale": 282.124294
   }
  ]
 },
 "initialExtent": {
  "xmin": 1.6838664309697114E7,
  "ymin": -4008497.121121391,
  "xmax": 1.684268175106533E7,
  "ymax": -4006642.9174129837,
  "spatialReference": {
   "cs": "pcs",
   "wkid": 102100
  }
 },
 "fullExtent": {
  "xmin": 1.6839603799928445E7,
  "ymin": -4008672.222378441,
  "xmax": 1.684174516288851E7,
  "ymax": -4007163.0062723896,
  "spatialReference": {
   "cs": "pcs",
   "wkid": 102100
  }
 },
 "minScale": 18055.954822,
 "maxScale": 282.124294,
 "units": "esriMeters",
 "supportedImageFormatTypes": "PNG32,PNG24,PNG,JPG,DIB,TIFF,EMF,PS,PDF,GIF,SVG,SVGZ,BMP",
 "documentInfo": {
  "Title": "",
  "Author": "",
  "Comments": "",
  "Subject": "",
  "Category": "",
  "AntialiasingMode": "Fastest",
  "TextAntialiasingMode": "Force",
  "Keywords": ""
 },
 "capabilities": "Map,Query,Data",
 "supportedQueryFormats": "JSON, AMF",
 "exportTilesAllowed": false,
 "maxRecordCount": 1000,
 "maxImageHeight": 4096,
 "maxImageWidth": 4096,
 "supportedExtensions": ""
}
